BEGIN:VCALENDAR
VERSION:2.0
PRODID:icalendar-ruby
CALSCALE:GREGORIAN
METHOD:PUBLISH
BEGIN:VEVENT
DTSTAMP:20260424T114000Z
UID:17-1100871@evangelicalbaptist.ca
DTSTART:20260625T003000Z
DTEND:20260625T020000Z
CLASS:PUBLIC
CREATED:20260424T043726
DESCRIPTION:
LAST-MODIFIED:20260424T043726
LOCATION:Fellowship Hall
SUMMARY:Bible Study and Prayer
URL;VALUE=URI:https://www.evangelicalbaptist.ca/events/bible-study-and-pray
 er/2026-06-24
END:VEVENT
END:VCALENDAR
