BEGIN:VCALENDAR
VERSION:2.0
PRODID:icalendar-ruby
CALSCALE:GREGORIAN
METHOD:PUBLISH
BEGIN:VEVENT
DTSTAMP:20260424T145153Z
UID:17-1101320@evangelicalbaptist.ca
DTSTART:20260709T003000Z
DTEND:20260709T020000Z
CLASS:PUBLIC
CREATED:20260424T073214
DESCRIPTION:
LAST-MODIFIED:20260424T073214
LOCATION:Fellowship Hall
SUMMARY:Bible Study and Prayer
URL;VALUE=URI:https://www.evangelicalbaptist.ca/events/bible-study-and-pray
 er/2026-07-08
END:VEVENT
END:VCALENDAR
