BEGIN:VCALENDAR
VERSION:2.0
PRODID:icalendar-ruby
CALSCALE:GREGORIAN
METHOD:PUBLISH
BEGIN:VEVENT
DTSTAMP:20260424T192634Z
UID:17-1102217@evangelicalbaptist.ca
DTSTART:20260730T003000Z
DTEND:20260730T020000Z
CLASS:PUBLIC
CREATED:20260424T130858
DESCRIPTION:
LAST-MODIFIED:20260424T130858
LOCATION:Fellowship Hall
SUMMARY:Bible Study and Prayer
URL;VALUE=URI:https://www.evangelicalbaptist.ca/events/bible-study-and-pray
 er/2026-07-29
END:VEVENT
END:VCALENDAR
