BEGIN:VCALENDAR
VERSION:2.0
PRODID:icalendar-ruby
CALSCALE:GREGORIAN
METHOD:PUBLISH
BEGIN:VEVENT
DTSTAMP:20260424T233402Z
UID:17-1102667@evangelicalbaptist.ca
DTSTART:20260820T003000Z
DTEND:20260820T020000Z
CLASS:PUBLIC
CREATED:20260424T155656
DESCRIPTION:
LAST-MODIFIED:20260424T155656
LOCATION:Fellowship Hall
SUMMARY:Bible Study and Prayer
URL;VALUE=URI:https://www.evangelicalbaptist.ca/events/bible-study-and-pray
 er/2026-08-19
END:VEVENT
END:VCALENDAR
