BEGIN:VCALENDAR
VERSION:2.0
PRODID:icalendar-ruby
CALSCALE:GREGORIAN
METHOD:PUBLISH
BEGIN:VEVENT
DTSTAMP:20260425T011116Z
UID:17-1103115@evangelicalbaptist.ca
DTSTART:20260827T003000Z
DTEND:20260827T020000Z
CLASS:PUBLIC
CREATED:20260424T184453
DESCRIPTION:
LAST-MODIFIED:20260424T184453
LOCATION:Fellowship Hall
SUMMARY:Bible Study and Prayer
URL;VALUE=URI:https://www.evangelicalbaptist.ca/events/bible-study-and-pray
 er/2026-08-26
END:VEVENT
END:VCALENDAR
