BEGIN:VCALENDAR
VERSION:2.0
PRODID:icalendar-ruby
CALSCALE:GREGORIAN
METHOD:PUBLISH
BEGIN:VEVENT
DTSTAMP:20260425T113525Z
UID:17-1103569@evangelicalbaptist.ca
DTSTART:20261015T003000Z
DTEND:20261015T020000Z
CLASS:PUBLIC
CREATED:20260425T043439
DESCRIPTION:
LAST-MODIFIED:20260425T043439
LOCATION:Fellowship Hall
SUMMARY:Bible Study and Prayer
URL;VALUE=URI:https://www.evangelicalbaptist.ca/events/bible-study-and-pray
 er/2026-10-14
END:VEVENT
END:VCALENDAR
