BEGIN:VCALENDAR
VERSION:2.0
PRODID:icalendar-ruby
CALSCALE:GREGORIAN
METHOD:PUBLISH
BEGIN:VEVENT
DTSTAMP:20260425T143623Z
UID:17-1104018@evangelicalbaptist.ca
DTSTART:20261029T003000Z
DTEND:20261029T020000Z
CLASS:PUBLIC
CREATED:20260425T071612
DESCRIPTION:
LAST-MODIFIED:20260425T071612
LOCATION:Fellowship Hall
SUMMARY:Bible Study and Prayer
URL;VALUE=URI:https://www.evangelicalbaptist.ca/events/bible-study-and-pray
 er/2026-10-28
END:VEVENT
END:VCALENDAR
