BEGIN:VCALENDAR
VERSION:2.0
PRODID:icalendar-ruby
CALSCALE:GREGORIAN
METHOD:PUBLISH
BEGIN:VEVENT
DTSTAMP:20260425T161113Z
UID:17-1104466@evangelicalbaptist.ca
DTSTART:20261105T013000Z
DTEND:20261105T030000Z
CLASS:PUBLIC
CREATED:20260425T095643
DESCRIPTION:
LAST-MODIFIED:20260425T095643
LOCATION:Fellowship Hall
SUMMARY:Bible Study and Prayer
URL;VALUE=URI:https://www.evangelicalbaptist.ca/events/bible-study-and-pray
 er/2026-11-04
END:VEVENT
END:VCALENDAR
