BEGIN:VCALENDAR
VERSION:2.0
PRODID:icalendar-ruby
CALSCALE:GREGORIAN
METHOD:PUBLISH
BEGIN:VEVENT
DTSTAMP:20260420T064026Z
UID:20-1089936@evangelicalbaptist.ca
DTSTART:20260809T170000Z
DTEND:20260809T182000Z
CLASS:PUBLIC
CREATED:20260419T231240
DESCRIPTION:Worship Service
LAST-MODIFIED:20260419T231240
LOCATION:
SUMMARY:Worship Service
URL;VALUE=URI:https://www.evangelicalbaptist.ca/events/worship-service--20/
 2026-08-09
END:VEVENT
END:VCALENDAR
