BEGIN:VCALENDAR
VERSION:2.0
PRODID:icalendar-ruby
CALSCALE:GREGORIAN
METHOD:PUBLISH
BEGIN:VEVENT
DTSTAMP:20260420T142941Z
UID:20-1090833@evangelicalbaptist.ca
DTSTART:20260913T170000Z
DTEND:20260913T182000Z
CLASS:PUBLIC
CREATED:20260420T070815
DESCRIPTION:Worship Service
LAST-MODIFIED:20260420T070815
LOCATION:
SUMMARY:Worship Service
URL;VALUE=URI:https://www.evangelicalbaptist.ca/events/worship-service--20/
 2026-09-13
END:VEVENT
END:VCALENDAR
