BEGIN:VCALENDAR
VERSION:2.0
PRODID:icalendar-ruby
CALSCALE:GREGORIAN
METHOD:PUBLISH
BEGIN:VEVENT
DTSTAMP:20260420T173246Z
UID:20-1091281@evangelicalbaptist.ca
DTSTART:20260927T170000Z
DTEND:20260927T182000Z
CLASS:PUBLIC
CREATED:20260420T094212
DESCRIPTION:Worship Service
LAST-MODIFIED:20260420T094212
LOCATION:
SUMMARY:Worship Service
URL;VALUE=URI:https://www.evangelicalbaptist.ca/events/worship-service--20/
 2026-09-27
END:VEVENT
END:VCALENDAR
