BEGIN:VCALENDAR
VERSION:2.0
PRODID:icalendar-ruby
CALSCALE:GREGORIAN
METHOD:PUBLISH
BEGIN:VEVENT
DTSTAMP:20260420T190906Z
UID:20-1091728@evangelicalbaptist.ca
DTSTART:20261004T170000Z
DTEND:20261004T182000Z
CLASS:PUBLIC
CREATED:20260420T121624
DESCRIPTION:Worship Service
LAST-MODIFIED:20260420T121624
LOCATION:
SUMMARY:Worship Service
URL;VALUE=URI:https://www.evangelicalbaptist.ca/events/worship-service--20/
 2026-10-04
END:VEVENT
END:VCALENDAR
