BEGIN:VCALENDAR
VERSION:2.0
PRODID:icalendar-ruby
CALSCALE:GREGORIAN
METHOD:PUBLISH
BEGIN:VEVENT
DTSTAMP:20260420T232644Z
UID:20-1092177@evangelicalbaptist.ca
DTSTART:20261025T170000Z
DTEND:20261025T182000Z
CLASS:PUBLIC
CREATED:20260420T145220
DESCRIPTION:Worship Service
LAST-MODIFIED:20260420T145220
LOCATION:
SUMMARY:Worship Service
URL;VALUE=URI:https://www.evangelicalbaptist.ca/events/worship-service--20/
 2026-10-25
END:VEVENT
END:VCALENDAR
