BEGIN:VCALENDAR
VERSION:2.0
PRODID:icalendar-ruby
CALSCALE:GREGORIAN
METHOD:PUBLISH
BEGIN:VEVENT
DTSTAMP:20260423T084643Z
UID:20-1097976@evangelicalbaptist.ca
DTSTART:20261101T180000Z
DTEND:20261101T192000Z
CLASS:PUBLIC
CREATED:20260422T190757
DESCRIPTION:Worship Service
LAST-MODIFIED:20260422T190757
LOCATION:
SUMMARY:Worship Service
URL;VALUE=URI:https://www.evangelicalbaptist.ca/events/worship-service--20/
 2026-11-01
END:VEVENT
END:VCALENDAR
